BEGIN:VCALENDAR
VERSION:2.0
METHOD:PUBLISH
X-WR-CALNAME;VALUE=TEXT:Kalendár podujatí Kultúrne Stredisko Bélu Bartóka
PRODID:-//Drupal iCal API//EN
BEGIN:VEVENT
UID: 64@bartokbela.sk
DTSTAMP:20260408T094333Z
DTSTART:20260530T110000Z
DTEND:20260530T123000Z
SUMMARY: DEŇ DETÍ
URL: https://www.bartokbela.sk/sk/programy/detsky-program/den-deti
CATEGORIES: Detský program
END:VEVENT
BEGIN:VEVENT
UID: 62@bartokbela.sk
DTSTAMP:20260417T090609Z
DTSTART:20260416T090000Z
DTEND:20260513T130000Z
SUMMARY: „A VTEDY ZATVORILI OKNÁ” - Spomienky na život a osudy židov vo Vacove a v Šahách
LOCATION: Menora Saag Centrum Artis
URL: https://www.bartokbela.sk/sk/programy/vystava/vtedy-zatvorili-okna-spomienky-na-zivot-osudy-zidov-vo-vacove-v-sahach
CATEGORIES: Výstava
END:VEVENT
BEGIN:VEVENT
UID: 57@bartokbela.sk
DTSTAMP:20260326T084418Z
DTSTART:20260413T140000Z
DTEND:20260430T133000Z
SUMMARY: Impresie štyroch dekád
LOCATION: Galéria Ľudovíta Simonyiho
URL: https://www.bartokbela.sk/sk/programy/vystava/impresie-styroch-dekad
CATEGORIES: Výstava
END:VEVENT
BEGIN:VEVENT
UID: 27@bartokbela.sk
DTSTAMP:20260318T090934Z
DTSTART:20260428T170000Z
DTEND:20260428T183000Z
SUMMARY: NICSAK, KI LAKIK ITT?
LOCATION: Divadelná sála radnice
URL: https://www.bartokbela.sk/sk/programy/divadlo/nicsak-ki-lakik-itt
CATEGORIES: Divadlo
END:VEVENT
END:VCALENDAR
