BEGIN:VCALENDAR
VERSION:2.0
METHOD:PUBLISH
X-WR-CALNAME;VALUE=TEXT:Bartók Béla Kulturális Központ eseménynaptár
PRODID:-//Drupal iCal API//EN
BEGIN:VEVENT
UID: 64@bartokbela.sk
DTSTAMP:20260408T094110Z
DTSTART:20260530T110000Z
DTEND:20260530T123000Z
SUMMARY: GYERMEKNAP
URL: https://www.bartokbela.sk/hu/esemenyek/gyerekprogram/gyermeknap
CATEGORIES: Gyerekprogram
END:VEVENT
BEGIN:VEVENT
UID: 62@bartokbela.sk
DTSTAMP:20260417T090640Z
DTSTART:20260416T090000Z
DTEND:20260513T130000Z
SUMMARY: „ÉS AKKOR BECSUKTÁK AZ ABLAKOKAT” - Emlékek a váci és az ipolysági zsidóság életéről, sorsáról
LOCATION: Menora Saag Centrum Artis
URL: https://www.bartokbela.sk/hu/esemenyek/kiallitas/es-akkor-becsuktak-az-ablakokat-emlekek-vaci-es-az-ipolysagi-zsidosag-eleterol
CATEGORIES: Kiállítás
END:VEVENT
BEGIN:VEVENT
UID: 57@bartokbela.sk
DTSTAMP:20260326T084446Z
DTSTART:20260413T140000Z
DTEND:20260430T133000Z
SUMMARY: Négy évtized impressziói
LOCATION: Simonyi Lajos Galéria
URL: https://www.bartokbela.sk/hu/esemenyek/kiallitas/negy-evtized-impresszioi
CATEGORIES: Kiállítás
END:VEVENT
BEGIN:VEVENT
UID: 27@bartokbela.sk
DTSTAMP:20260318T090733Z
DTSTART:20260428T170000Z
DTEND:20260428T183000Z
SUMMARY: NICSAK, KI LAKIK ITT?
LOCATION: Városháza színházterme
URL: https://www.bartokbela.sk/hu/esemenyek/szinhaz/nicsak-ki-lakik-itt
CATEGORIES: Színház
END:VEVENT
END:VCALENDAR
